BEGIN:VCALENDAR
VERSION:2.0
PRODID:-//hansenhouseassistedliving.com//NONSGML kigkonsult.se iCalcreator 
 2.30.10//
CALSCALE:GREGORIAN
METHOD:PUBLISH
UID:12d11960-c1b1-44e5-abd8-2fc54a406e31
X-WR-CALDESC:
X-WR-RELCALID:1388b93ddd94392fcc0493f59c6b493c
X-WR-TIMEZONE:America/Chicago
BEGIN:VTIMEZONE
TZID:America/Chicago
BEGIN:STANDARD
TZNAME:CST
DTSTART:20221106T020000
TZOFFSETFROM:-0500
TZOFFSETTO:-0600
RDATE:20231105T020000
RDATE:20241103T020000
END:STANDARD
BEGIN:DAYLIGHT
TZNAME:CDT
DTSTART:20230312T020000
TZOFFSETFROM:-0600
TZOFFSETTO:-0500
RDATE:20240310T020000
END:DAYLIGHT
END:VTIMEZONE
BEGIN:VEVENT
UID:15cf3881-9427-409e-ae4a-463035330320
DTSTAMP:20260423T180014Z
DESCRIPTION:
DTSTART;TZID=America/Chicago:20230528T180000
DTEND;TZID=America/Chicago:20230528T183000
LOCATION:
SUMMARY:Movie & Popcorn
END:VEVENT
END:VCALENDAR
