BEGIN:VCALENDAR
VERSION:2.0
PRODID:-//hansenhouseassistedliving.com//NONSGML kigkonsult.se iCalcreator 
 2.30.10//
CALSCALE:GREGORIAN
METHOD:PUBLISH
UID:158afa25-dc15-46b8-bd46-91edaa095838
X-WR-CALDESC:
X-WR-RELCALID:f71ad3d053992e56c547c9ec6e5781b4
X-WR-TIMEZONE:America/Chicago
BEGIN:VTIMEZONE
TZID:America/Chicago
BEGIN:STANDARD
TZNAME:CST
DTSTART:20221106T020000
TZOFFSETFROM:-0500
TZOFFSETTO:-0600
RDATE:20231105T020000
RDATE:20241103T020000
END:STANDARD
BEGIN:DAYLIGHT
TZNAME:CDT
DTSTART:20230312T020000
TZOFFSETFROM:-0600
TZOFFSETTO:-0500
RDATE:20240310T020000
RDATE:20250309T020000
END:DAYLIGHT
END:VTIMEZONE
BEGIN:VEVENT
UID:d6a71f0d-c05a-47b1-9796-bf0e9e27e0ed
DTSTAMP:20260424T012916Z
DESCRIPTION:
DTSTART;TZID=America/Chicago:20230913T150000
DTEND;TZID=America/Chicago:20230913T153000
LOCATION:
SUMMARY:Ice Cream Social
END:VEVENT
END:VCALENDAR
