BEGIN:VCALENDAR
VERSION:2.0
PRODID:-//hansenhouseassistedliving.com//NONSGML kigkonsult.se iCalcreator 
 2.30.10//
CALSCALE:GREGORIAN
METHOD:PUBLISH
UID:5c5a7d0e-50e4-46e8-b831-1c46880aa475
X-WR-CALDESC:
X-WR-RELCALID:169054fcdd1c33a4da855f187bed7696
X-WR-TIMEZONE:America/Chicago
BEGIN:VTIMEZONE
TZID:America/Chicago
BEGIN:STANDARD
TZNAME:CST
DTSTART:20231105T020000
TZOFFSETFROM:-0500
TZOFFSETTO:-0600
RDATE:20241103T020000
END:STANDARD
BEGIN:DAYLIGHT
TZNAME:CDT
DTSTART:20230312T020000
TZOFFSETFROM:-0600
TZOFFSETTO:-0500
RDATE:20240310T020000
RDATE:20250309T020000
END:DAYLIGHT
END:VTIMEZONE
BEGIN:VEVENT
UID:8fe0d564-9f7b-451d-b835-175b72f842c8
DTSTAMP:20260426T004109Z
DESCRIPTION:
DTSTART;TZID=America/Chicago:20240224T133000
DTEND;TZID=America/Chicago:20240224T140000
LOCATION:2331 Nash Blvd.\, Council Bluffs\, IA 51501 US
SUMMARY:Dominoes
END:VEVENT
END:VCALENDAR
