BEGIN:VCALENDAR
VERSION:2.0
PRODID:-//hansenhouseassistedliving.com//NONSGML kigkonsult.se iCalcreator 
 2.30.10//
CALSCALE:GREGORIAN
METHOD:PUBLISH
UID:936f01c6-5f76-4a12-ac9e-9de9955b4953
X-WR-CALDESC:
X-WR-RELCALID:22aee08553dbecbac44b7d503ba82af3
X-WR-TIMEZONE:America/Chicago
BEGIN:VTIMEZONE
TZID:America/Chicago
BEGIN:STANDARD
TZNAME:CST
DTSTART:20231105T020000
TZOFFSETFROM:-0500
TZOFFSETTO:-0600
RDATE:20241103T020000
END:STANDARD
BEGIN:DAYLIGHT
TZNAME:CDT
DTSTART:20240310T020000
TZOFFSETFROM:-0600
TZOFFSETTO:-0500
RDATE:20250309T020000
END:DAYLIGHT
END:VTIMEZONE
BEGIN:VEVENT
UID:cf7b2a35-c563-49be-81a1-dbd40d3587fe
DTSTAMP:20260426T000838Z
DESCRIPTION:
DTSTART;TZID=America/Chicago:20240422T090000
DTEND;TZID=America/Chicago:20240422T093000
LOCATION:2331 Nash Blvd.\, Council Bluffs\, IA 51501 US
SUMMARY:Exercise
END:VEVENT
END:VCALENDAR
