BEGIN:VCALENDAR
VERSION:2.0
PRODID:-//hansenhouseassistedliving.com//NONSGML kigkonsult.se iCalcreator 
 2.30.10//
CALSCALE:GREGORIAN
METHOD:PUBLISH
UID:a24349a7-e6e3-4828-aeab-4ef2fc4ea64f
X-WR-CALDESC:
X-WR-RELCALID:d389cd958130f178b9cfe54cbd48e698
X-WR-TIMEZONE:America/Chicago
BEGIN:VTIMEZONE
TZID:America/Chicago
BEGIN:STANDARD
TZNAME:CST
DTSTART:20231105T020000
TZOFFSETFROM:-0500
TZOFFSETTO:-0600
RDATE:20241103T020000
RDATE:20251102T020000
END:STANDARD
BEGIN:DAYLIGHT
TZNAME:CDT
DTSTART:20240310T020000
TZOFFSETFROM:-0600
TZOFFSETTO:-0500
RDATE:20250309T020000
END:DAYLIGHT
END:VTIMEZONE
BEGIN:VEVENT
UID:2e15d079-2aed-48df-b651-777c924d8015
DTSTAMP:20260426T021005Z
DESCRIPTION:
DTSTART;TZID=America/Chicago:20240522T133000
DTEND;TZID=America/Chicago:20240522T140000
LOCATION:2331 Nash Blvd.\, Council Bluffs\, IA 51501 US
SUMMARY:BINGO
END:VEVENT
END:VCALENDAR
