BEGIN:VCALENDAR
VERSION:2.0
PRODID:-//hansenhouseassistedliving.com//NONSGML kigkonsult.se iCalcreator 
 2.30.10//
CALSCALE:GREGORIAN
METHOD:PUBLISH
UID:6f26ec37-b7e3-4480-9c3e-ffaf60b0af01
X-WR-CALDESC:
X-WR-RELCALID:c7ea983f4e8e70d82007432eadc717a1
X-WR-TIMEZONE:America/Chicago
BEGIN:VTIMEZONE
TZID:America/Chicago
BEGIN:STANDARD
TZNAME:CST
DTSTART:20231105T020000
TZOFFSETFROM:-0500
TZOFFSETTO:-0600
RDATE:20241103T020000
RDATE:20251102T020000
END:STANDARD
BEGIN:DAYLIGHT
TZNAME:CDT
DTSTART:20240310T020000
TZOFFSETFROM:-0600
TZOFFSETTO:-0500
RDATE:20250309T020000
END:DAYLIGHT
END:VTIMEZONE
BEGIN:VEVENT
UID:256a3d76-e6bf-4fce-b046-b4d8f92bf4e4
DTSTAMP:20260426T014006Z
DESCRIPTION:
DTSTART;TZID=America/Chicago:20240807T140000
DTEND;TZID=America/Chicago:20240807T143000
LOCATION:2331 Nash Blvd.\, Council Bluffs\, IA 51501 US
SUMMARY:Michael Walker Live Entertainment
END:VEVENT
END:VCALENDAR
