BEGIN:VCALENDAR
VERSION:2.0
PRODID:-//hansenhouseassistedliving.com//NONSGML kigkonsult.se iCalcreator 
 2.30.10//
CALSCALE:GREGORIAN
METHOD:PUBLISH
UID:562c7f0a-72f6-49b1-bbd6-6bf29b5c7018
X-WR-CALDESC:
X-WR-RELCALID:2beccf6196ad980d41f0d4b5ee74b0b6
X-WR-TIMEZONE:America/Chicago
BEGIN:VTIMEZONE
TZID:America/Chicago
BEGIN:STANDARD
TZNAME:CST
DTSTART:20231105T020000
TZOFFSETFROM:-0500
TZOFFSETTO:-0600
RDATE:20241103T020000
RDATE:20251102T020000
END:STANDARD
BEGIN:DAYLIGHT
TZNAME:CDT
DTSTART:20240310T020000
TZOFFSETFROM:-0600
TZOFFSETTO:-0500
RDATE:20250309T020000
END:DAYLIGHT
END:VTIMEZONE
BEGIN:VEVENT
UID:89fc7268-b4f1-40bd-a9d4-e187591610b5
DTSTAMP:20260425T210854Z
DESCRIPTION:
DTSTART;TZID=America/Chicago:20240809T090000
DTEND;TZID=America/Chicago:20240809T093000
LOCATION:2331 Nash Blvd.\, Council Bluffs\, IA 51501 US
SUMMARY:Exercise
END:VEVENT
END:VCALENDAR
