BEGIN:VCALENDAR
VERSION:2.0
PRODID:-//hansenhouseassistedliving.com//NONSGML kigkonsult.se iCalcreator 
 2.30.10//
CALSCALE:GREGORIAN
METHOD:PUBLISH
UID:6c6412e2-3a50-42ab-8e50-a33530c649a6
X-WR-CALDESC:
X-WR-RELCALID:ae8274836ac37561b8ea1284a7f58665
X-WR-TIMEZONE:America/Chicago
BEGIN:VTIMEZONE
TZID:America/Chicago
BEGIN:STANDARD
TZNAME:CST
DTSTART:20241103T020000
TZOFFSETFROM:-0500
TZOFFSETTO:-0600
RDATE:20251102T020000
END:STANDARD
BEGIN:DAYLIGHT
TZNAME:CDT
DTSTART:20240310T020000
TZOFFSETFROM:-0600
TZOFFSETTO:-0500
RDATE:20250309T020000
RDATE:20260308T020000
END:DAYLIGHT
END:VTIMEZONE
BEGIN:VEVENT
UID:a9073b2e-c319-4403-9358-14dd8a4d98da
DTSTAMP:20260421T112903Z
DESCRIPTION:
DTSTART;TZID=America/Chicago:20250224T133000
DTEND;TZID=America/Chicago:20250224T140000
LOCATION:2331 Nash Blvd.\, Council Bluffs\, IA 51501 US
SUMMARY:UNO
END:VEVENT
END:VCALENDAR
