BEGIN:VCALENDAR
VERSION:2.0
PRODID:-//hansenhouseassistedliving.com//NONSGML kigkonsult.se iCalcreator 
 2.30.10//
CALSCALE:GREGORIAN
METHOD:PUBLISH
UID:45116a3c-27c5-4512-83a1-5a884e37e72b
X-WR-CALDESC:
X-WR-RELCALID:6deff2a2d79adba293e70a29a24bcdae
X-WR-TIMEZONE:America/Chicago
BEGIN:VTIMEZONE
TZID:America/Chicago
BEGIN:STANDARD
TZNAME:CST
DTSTART:20241103T020000
TZOFFSETFROM:-0500
TZOFFSETTO:-0600
RDATE:20251102T020000
END:STANDARD
BEGIN:DAYLIGHT
TZNAME:CDT
DTSTART:20250309T020000
TZOFFSETFROM:-0600
TZOFFSETTO:-0500
RDATE:20260308T020000
END:DAYLIGHT
END:VTIMEZONE
BEGIN:VEVENT
UID:6a7fdd5c-351e-463e-8eba-d25793626f08
DTSTAMP:20260425T194449Z
DESCRIPTION:
DTSTART;TZID=America/Chicago:20250318T140000
DTEND;TZID=America/Chicago:20250318T143000
LOCATION:2331 Nash Blvd.\, Council Bluffs\, IA 51501 US
SUMMARY:Root Beer Floats
END:VEVENT
END:VCALENDAR
