BEGIN:VCALENDAR
VERSION:2.0
PRODID:-//hansenhouseassistedliving.com//NONSGML kigkonsult.se iCalcreator 
 2.30.10//
CALSCALE:GREGORIAN
METHOD:PUBLISH
UID:c5a4c1e9-626c-4ad6-8d6b-d3a0d1c74e9d
X-WR-CALDESC:
X-WR-RELCALID:618104f9a8654ee9414750c706787e11
X-WR-TIMEZONE:America/Chicago
BEGIN:VTIMEZONE
TZID:America/Chicago
BEGIN:STANDARD
TZNAME:CST
DTSTART:20251102T020000
TZOFFSETFROM:-0500
TZOFFSETTO:-0600
RDATE:20261101T020000
END:STANDARD
BEGIN:DAYLIGHT
TZNAME:CDT
DTSTART:20260308T020000
TZOFFSETFROM:-0600
TZOFFSETTO:-0500
RDATE:20270314T020000
END:DAYLIGHT
END:VTIMEZONE
BEGIN:VEVENT
UID:8eafef46-129e-4e26-9f7d-0ace73698588
DTSTAMP:20260423T144530Z
DESCRIPTION:
DTSTART;TZID=America/Chicago:20260408T100000
DTEND;TZID=America/Chicago:20260408T110000
LOCATION:2331 Nash Blvd.\, Council Bluffs\, IA 51501 US
SUMMARY:Manicures
END:VEVENT
END:VCALENDAR
