BEGIN:VCALENDAR
VERSION:2.0
PRODID:-//hansenhouseassistedliving.com//NONSGML kigkonsult.se iCalcreator 
 2.30.10//
CALSCALE:GREGORIAN
METHOD:PUBLISH
UID:f2d76e7a-b444-4191-8025-c8b3d4d918da
X-WR-CALDESC:
X-WR-RELCALID:b24f25c071daf990c13727e198f5ed3a
X-WR-TIMEZONE:America/Chicago
BEGIN:VTIMEZONE
TZID:America/Chicago
BEGIN:STANDARD
TZNAME:CST
DTSTART:20251102T020000
TZOFFSETFROM:-0500
TZOFFSETTO:-0600
RDATE:20261101T020000
END:STANDARD
BEGIN:DAYLIGHT
TZNAME:CDT
DTSTART:20260308T020000
TZOFFSETFROM:-0600
TZOFFSETTO:-0500
RDATE:20270314T020000
END:DAYLIGHT
END:VTIMEZONE
BEGIN:VEVENT
UID:5e54e0bc-7115-49f6-b6f9-cd14cfb95c1f
DTSTAMP:20260423T145310Z
DESCRIPTION:
DTSTART;TZID=America/Chicago:20260410T090000
DTEND;TZID=America/Chicago:20260410T093000
LOCATION:2331 Nash Blvd.\, Council Bluffs\, IA 51501 US
SUMMARY:Fun With Fitness
END:VEVENT
END:VCALENDAR
