BEGIN:VCALENDAR
VERSION:2.0
PRODID:-//hansenhouseassistedliving.com//NONSGML kigkonsult.se iCalcreator 
 2.30.10//
CALSCALE:GREGORIAN
METHOD:PUBLISH
UID:6554c30b-50e9-4b35-952b-109008ace1d9
X-WR-CALDESC:
X-WR-RELCALID:ffcb9d1f25169198c02ac400751a77bb
X-WR-TIMEZONE:America/Chicago
BEGIN:VTIMEZONE
TZID:America/Chicago
BEGIN:STANDARD
TZNAME:CST
DTSTART:20251102T020000
TZOFFSETFROM:-0500
TZOFFSETTO:-0600
RDATE:20261101T020000
END:STANDARD
BEGIN:DAYLIGHT
TZNAME:CDT
DTSTART:20260308T020000
TZOFFSETFROM:-0600
TZOFFSETTO:-0500
RDATE:20270314T020000
END:DAYLIGHT
END:VTIMEZONE
BEGIN:VEVENT
UID:5f20f3ff-6fdb-4803-8828-b7eabb5f377e
DTSTAMP:20260423T144752Z
DESCRIPTION:
DTSTART;TZID=America/Chicago:20260414T090000
DTEND;TZID=America/Chicago:20260414T213000
LOCATION:2331 Nash Blvd.\, Council Bluffs\, IA 51501 US
SUMMARY:Music-N-Motion
END:VEVENT
END:VCALENDAR
