BEGIN:VCALENDAR
VERSION:2.0
PRODID:-//hansenhouseassistedliving.com//NONSGML kigkonsult.se iCalcreator 
 2.30.10//
CALSCALE:GREGORIAN
METHOD:PUBLISH
UID:a857bfd2-f9c3-4287-a5a1-f8d9d14e3938
X-WR-CALDESC:
X-WR-RELCALID:eae8273cd5bdfada92be187518122ebd
X-WR-TIMEZONE:America/Chicago
BEGIN:VTIMEZONE
TZID:America/Chicago
BEGIN:STANDARD
TZNAME:CST
DTSTART:20251102T020000
TZOFFSETFROM:-0500
TZOFFSETTO:-0600
RDATE:20261101T020000
END:STANDARD
BEGIN:DAYLIGHT
TZNAME:CDT
DTSTART:20260308T020000
TZOFFSETFROM:-0600
TZOFFSETTO:-0500
RDATE:20270314T020000
END:DAYLIGHT
END:VTIMEZONE
BEGIN:VEVENT
UID:4f1d9ee1-52bc-4e00-99ba-f1e7bf2f96d7
DTSTAMP:20260423T144930Z
DESCRIPTION:
DTSTART;TZID=America/Chicago:20260414T103000
DTEND;TZID=America/Chicago:20260414T110000
LOCATION:2331 Nash Blvd.\, Council Bluffs\, IA 51501 US
SUMMARY:Faith & Fellowship
END:VEVENT
END:VCALENDAR
