BEGIN:VCALENDAR
VERSION:2.0
PRODID:-//hansenhouseassistedliving.com//NONSGML kigkonsult.se iCalcreator 
 2.30.10//
CALSCALE:GREGORIAN
METHOD:PUBLISH
UID:1aa1e89d-9c4e-47ab-99c8-048b0f84048e
X-WR-CALDESC:
X-WR-RELCALID:9cba44a178b9f062c838de37759ab70e
X-WR-TIMEZONE:America/Chicago
BEGIN:VTIMEZONE
TZID:America/Chicago
BEGIN:STANDARD
TZNAME:CST
DTSTART:20251102T020000
TZOFFSETFROM:-0500
TZOFFSETTO:-0600
RDATE:20261101T020000
END:STANDARD
BEGIN:DAYLIGHT
TZNAME:CDT
DTSTART:20260308T020000
TZOFFSETFROM:-0600
TZOFFSETTO:-0500
RDATE:20270314T020000
END:DAYLIGHT
END:VTIMEZONE
BEGIN:VEVENT
UID:4c6f29b3-6a93-4543-84e3-ea10122d31df
DTSTAMP:20260423T143923Z
DESCRIPTION:
DTSTART;TZID=America/Chicago:20260414T160000
DTEND;TZID=America/Chicago:20260414T163000
LOCATION:2331 Nash Blvd.\, Council Bluffs\, IA 51501 US
SUMMARY:Puzzles With Pals
END:VEVENT
END:VCALENDAR
