BEGIN:VCALENDAR
VERSION:2.0
PRODID:-//hansenhouseassistedliving.com//NONSGML kigkonsult.se iCalcreator 
 2.30.10//
CALSCALE:GREGORIAN
METHOD:PUBLISH
UID:f9d04ff1-aacb-4812-89d0-99c2fc537437
X-WR-CALDESC:
X-WR-RELCALID:f605f0243a303da8503fff4e9679288f
X-WR-TIMEZONE:America/Chicago
BEGIN:VTIMEZONE
TZID:America/Chicago
BEGIN:STANDARD
TZNAME:CST
DTSTART:20251102T020000
TZOFFSETFROM:-0500
TZOFFSETTO:-0600
RDATE:20261101T020000
END:STANDARD
BEGIN:DAYLIGHT
TZNAME:CDT
DTSTART:20260308T020000
TZOFFSETFROM:-0600
TZOFFSETTO:-0500
RDATE:20270314T020000
END:DAYLIGHT
END:VTIMEZONE
BEGIN:VEVENT
UID:a97a1376-f06a-4774-8ef6-b88cb42545fd
DTSTAMP:20260423T144805Z
DESCRIPTION:
DTSTART;TZID=America/Chicago:20260421T090000
DTEND;TZID=America/Chicago:20260421T093000
LOCATION:2331 Nash Blvd.\, Council Bluffs\, IA 51501 US
SUMMARY:Movin' & Groovin'
END:VEVENT
END:VCALENDAR
