BEGIN:VCALENDAR
VERSION:2.0
PRODID:-//hansenhouseassistedliving.com//NONSGML kigkonsult.se iCalcreator 
 2.30.10//
CALSCALE:GREGORIAN
METHOD:PUBLISH
UID:107b2979-586e-4017-ae99-bd0613d559bc
X-WR-CALDESC:
X-WR-RELCALID:367579d793c278192c6ae6f46c5d5f62
X-WR-TIMEZONE:America/Chicago
BEGIN:VTIMEZONE
TZID:America/Chicago
BEGIN:STANDARD
TZNAME:CST
DTSTART:20251102T020000
TZOFFSETFROM:-0500
TZOFFSETTO:-0600
RDATE:20261101T020000
END:STANDARD
BEGIN:DAYLIGHT
TZNAME:CDT
DTSTART:20260308T020000
TZOFFSETFROM:-0600
TZOFFSETTO:-0500
RDATE:20270314T020000
END:DAYLIGHT
END:VTIMEZONE
BEGIN:VEVENT
UID:dc86d9de-2cbf-46ae-90ea-aa9640566932
DTSTAMP:20260423T145138Z
DESCRIPTION:
DTSTART;TZID=America/Chicago:20260422T090000
DTEND;TZID=America/Chicago:20260422T093000
LOCATION:2331 Nash Blvd.\, Council Bluffs\, IA 51501 US
SUMMARY:Fun With Fitness
END:VEVENT
END:VCALENDAR
