BEGIN:VCALENDAR
VERSION:2.0
PRODID:-//hansenhouseassistedliving.com//NONSGML kigkonsult.se iCalcreator 
 2.30.10//
CALSCALE:GREGORIAN
METHOD:PUBLISH
UID:6bc707b1-3bcd-43c4-b815-b9c40db81f7f
X-WR-CALDESC:
X-WR-RELCALID:8e947da38f35216e26b476a7e5a601b4
X-WR-TIMEZONE:America/Chicago
BEGIN:VTIMEZONE
TZID:America/Chicago
BEGIN:STANDARD
TZNAME:CST
DTSTART:20251102T020000
TZOFFSETFROM:-0500
TZOFFSETTO:-0600
RDATE:20261101T020000
END:STANDARD
BEGIN:DAYLIGHT
TZNAME:CDT
DTSTART:20260308T020000
TZOFFSETFROM:-0600
TZOFFSETTO:-0500
RDATE:20270314T020000
END:DAYLIGHT
END:VTIMEZONE
BEGIN:VEVENT
UID:70238d01-06dc-414f-bef0-6e0320396ee4
DTSTAMP:20260423T145046Z
DESCRIPTION:
DTSTART;TZID=America/Chicago:20260428T103000
DTEND;TZID=America/Chicago:20260428T110000
LOCATION:2331 Nash Blvd.\, Council Bluffs\, IA 51501 US
SUMMARY:Faith & Fellowship
END:VEVENT
END:VCALENDAR
