BEGIN:VCALENDAR
VERSION:2.0
PRODID:-//hansenhouseassistedliving.com//NONSGML kigkonsult.se iCalcreator 
 2.30.10//
CALSCALE:GREGORIAN
METHOD:PUBLISH
UID:c35ae5bf-b266-4b98-9dd6-9aa00b359ee2
X-WR-CALDESC:
X-WR-RELCALID:a992377b5683c4e701b03d39de1baec7
X-WR-TIMEZONE:America/Chicago
BEGIN:VTIMEZONE
TZID:America/Chicago
BEGIN:STANDARD
TZNAME:CST
DTSTART:20251102T020000
TZOFFSETFROM:-0500
TZOFFSETTO:-0600
RDATE:20261101T020000
END:STANDARD
BEGIN:DAYLIGHT
TZNAME:CDT
DTSTART:20260308T020000
TZOFFSETFROM:-0600
TZOFFSETTO:-0500
RDATE:20270314T020000
END:DAYLIGHT
END:VTIMEZONE
BEGIN:VEVENT
UID:6ccaa95b-aca3-44d8-a412-84d8affd4762
DTSTAMP:20260423T145143Z
DESCRIPTION:
DTSTART;TZID=America/Chicago:20260430T090000
DTEND;TZID=America/Chicago:20260430T093000
LOCATION:2331 Nash Blvd.\, Council Bluffs\, IA 51501 US
SUMMARY:Movin' & Groovin'
END:VEVENT
END:VCALENDAR
